BEGIN:VCALENDAR
VERSION:2.0
PRODID:-//Engranajes Culturales - ECPv6.15.20//NONSGML v1.0//EN
CALSCALE:GREGORIAN
METHOD:PUBLISH
X-ORIGINAL-URL:https://engranajesculturales.com
X-WR-CALDESC:Eventos para Engranajes Culturales
REFRESH-INTERVAL;VALUE=DURATION:PT1H
X-Robots-Tag:noindex
X-PUBLISHED-TTL:PT1H
BEGIN:VTIMEZONE
TZID:Europe/Madrid
BEGIN:DAYLIGHT
TZOFFSETFROM:+0100
TZOFFSETTO:+0200
TZNAME:CEST
DTSTART:20220327T010000
END:DAYLIGHT
BEGIN:STANDARD
TZOFFSETFROM:+0200
TZOFFSETTO:+0100
TZNAME:CET
DTSTART:20221030T010000
END:STANDARD
BEGIN:DAYLIGHT
TZOFFSETFROM:+0100
TZOFFSETTO:+0200
TZNAME:CEST
DTSTART:20230326T010000
END:DAYLIGHT
BEGIN:STANDARD
TZOFFSETFROM:+0200
TZOFFSETTO:+0100
TZNAME:CET
DTSTART:20231029T010000
END:STANDARD
BEGIN:DAYLIGHT
TZOFFSETFROM:+0100
TZOFFSETTO:+0200
TZNAME:CEST
DTSTART:20240331T010000
END:DAYLIGHT
BEGIN:STANDARD
TZOFFSETFROM:+0200
TZOFFSETTO:+0100
TZNAME:CET
DTSTART:20241027T010000
END:STANDARD
BEGIN:DAYLIGHT
TZOFFSETFROM:+0100
TZOFFSETTO:+0200
TZNAME:CEST
DTSTART:20250330T010000
END:DAYLIGHT
BEGIN:STANDARD
TZOFFSETFROM:+0200
TZOFFSETTO:+0100
TZNAME:CET
DTSTART:20251026T010000
END:STANDARD
END:VTIMEZONE
BEGIN:VEVENT
DTSTART;TZID=Europe/Madrid:20231215T160000
DTEND;TZID=Europe/Madrid:20240104T190000
DTSTAMP:20260423T145621
CREATED:20231205T113457Z
LAST-MODIFIED:20231205T113532Z
UID:2466-1702656000-1704394800@engranajesculturales.com
SUMMARY:Programación especial Navidad en Torre Sevilla
DESCRIPTION:Talleres\, actividades\, magia\, espectáculos\, zambomba y coros para disfrutar de unas Navidades en familia.
URL:https://engranajesculturales.com/event/programacion-especial-navidad-en-torre-sevilla/
LOCATION:CC Torre Sevilla\, C/ Gonzalo Jimenez de Quesada\, 2\,\, Sevilla\, Sevilla\, 410092\, España
ATTACH;FMTTYPE=image/jpeg:https://engranajesculturales.com/wp-content/uploads/2023/12/V02_folleto-navidad-poliptico_23_page-0001-scaled.jpg
ORGANIZER;CN="Engranajes Culturales":MAILTO:info@engranajesculturales.com
END:VEVENT
BEGIN:VEVENT
DTSTART;TZID=Europe/Madrid:20230904T113100
DTEND;TZID=Europe/Madrid:20230904T113100
DTSTAMP:20260423T145621
CREATED:20230817T114822Z
LAST-MODIFIED:20240209T100833Z
UID:1808-1693827060-1693827060@engranajesculturales.com
SUMMARY:Evento Prueba: Visita teatralizada al Palacio de la Condesa de Lebrija
DESCRIPTION:Un asombroso viaje nos espera  de la mano de la propia Teresa de Jesús con la Visita teatralizada las Moradas de Santa Teresa. \nEn un recorrido guiado y teatralizado en el que conoceremos las vicisitudes con las que se encontró la Santa a su llegada a la ciudad para fundar el Convento de San José\, pasearemos por una ciudad cosmopolita\, peligrosa\, llena de riquezas y de miserias\, la Sevilla del siglo XVI\, para llegar al convento que fundará con la ayuda de su colaborador inseparable San Juan de la Cruz.
URL:https://engranajesculturales.com/event/evento-prueba-visita-teatralizada-al-palacio-de-la-condesa-de-lebrija/
LOCATION:Palacio de la Condesa de Lebrija\, C. Cuna\, 8\, Sevilla\, Sevilla\, 41008\, España
CATEGORIES:CategoríaPrueba1
ATTACH;FMTTYPE=image/jpeg:https://engranajesculturales.com/wp-content/uploads/2022/07/Teresa.jpg
ORGANIZER;CN="Engranajes Culturales":MAILTO:info@engranajesculturales.com
END:VEVENT
BEGIN:VEVENT
DTSTART;TZID=Europe/Madrid:20230904T113100
DTEND;TZID=Europe/Madrid:20230904T113100
DTSTAMP:20260423T145621
CREATED:20230817T114822Z
LAST-MODIFIED:20240209T100833Z
UID:1808-1693827060-1693827060@engranajesculturales.com
SUMMARY:Evento Prueba: Visita teatralizada al Palacio de la Condesa de Lebrija
DESCRIPTION:Un asombroso viaje nos espera  de la mano de la propia Teresa de Jesús con la Visita teatralizada las Moradas de Santa Teresa. \nEn un recorrido guiado y teatralizado en el que conoceremos las vicisitudes con las que se encontró la Santa a su llegada a la ciudad para fundar el Convento de San José\, pasearemos por una ciudad cosmopolita\, peligrosa\, llena de riquezas y de miserias\, la Sevilla del siglo XVI\, para llegar al convento que fundará con la ayuda de su colaborador inseparable San Juan de la Cruz.
URL:https://engranajesculturales.com/event/evento-prueba-visita-teatralizada-al-palacio-de-la-condesa-de-lebrija/
LOCATION:Palacio de la Condesa de Lebrija\, C. Cuna\, 8\, Sevilla\, Sevilla\, 41008\, España
CATEGORIES:CategoríaPrueba1
ATTACH;FMTTYPE=image/jpeg:https://engranajesculturales.com/wp-content/uploads/2022/07/Teresa.jpg
ORGANIZER;CN="Engranajes Culturales":MAILTO:info@engranajesculturales.com
END:VEVENT
BEGIN:VEVENT
DTSTART;TZID=Europe/Madrid:20230904T113100
DTEND;TZID=Europe/Madrid:20230904T113100
DTSTAMP:20260423T145621
CREATED:20230817T114822Z
LAST-MODIFIED:20240209T100833Z
UID:1808-1693827060-1693827060@engranajesculturales.com
SUMMARY:Evento Prueba: Visita teatralizada al Palacio de la Condesa de Lebrija
DESCRIPTION:Un asombroso viaje nos espera  de la mano de la propia Teresa de Jesús con la Visita teatralizada las Moradas de Santa Teresa. \nEn un recorrido guiado y teatralizado en el que conoceremos las vicisitudes con las que se encontró la Santa a su llegada a la ciudad para fundar el Convento de San José\, pasearemos por una ciudad cosmopolita\, peligrosa\, llena de riquezas y de miserias\, la Sevilla del siglo XVI\, para llegar al convento que fundará con la ayuda de su colaborador inseparable San Juan de la Cruz.
URL:https://engranajesculturales.com/event/evento-prueba-visita-teatralizada-al-palacio-de-la-condesa-de-lebrija/
LOCATION:Palacio de la Condesa de Lebrija\, C. Cuna\, 8\, Sevilla\, Sevilla\, 41008\, España
CATEGORIES:CategoríaPrueba1
ATTACH;FMTTYPE=image/jpeg:https://engranajesculturales.com/wp-content/uploads/2022/07/Teresa.jpg
ORGANIZER;CN="Engranajes Culturales":MAILTO:info@engranajesculturales.com
END:VEVENT
BEGIN:VEVENT
DTSTART;TZID=Europe/Madrid:20230904T113100
DTEND;TZID=Europe/Madrid:20230904T113100
DTSTAMP:20260423T145621
CREATED:20230817T114822Z
LAST-MODIFIED:20240209T100833Z
UID:1808-1693827060-1693827060@engranajesculturales.com
SUMMARY:Evento Prueba: Visita teatralizada al Palacio de la Condesa de Lebrija
DESCRIPTION:Un asombroso viaje nos espera  de la mano de la propia Teresa de Jesús con la Visita teatralizada las Moradas de Santa Teresa. \nEn un recorrido guiado y teatralizado en el que conoceremos las vicisitudes con las que se encontró la Santa a su llegada a la ciudad para fundar el Convento de San José\, pasearemos por una ciudad cosmopolita\, peligrosa\, llena de riquezas y de miserias\, la Sevilla del siglo XVI\, para llegar al convento que fundará con la ayuda de su colaborador inseparable San Juan de la Cruz.
URL:https://engranajesculturales.com/event/evento-prueba-visita-teatralizada-al-palacio-de-la-condesa-de-lebrija/
LOCATION:Palacio de la Condesa de Lebrija\, C. Cuna\, 8\, Sevilla\, Sevilla\, 41008\, España
CATEGORIES:CategoríaPrueba1
ATTACH;FMTTYPE=image/jpeg:https://engranajesculturales.com/wp-content/uploads/2022/07/Teresa.jpg
ORGANIZER;CN="Engranajes Culturales":MAILTO:info@engranajesculturales.com
END:VEVENT
END:VCALENDAR