BEGIN:VCALENDAR
VERSION:2.0
PRODID:-//Engranajes Culturales - ECPv6.15.20//NONSGML v1.0//EN
CALSCALE:GREGORIAN
METHOD:PUBLISH
X-ORIGINAL-URL:https://engranajesculturales.com
X-WR-CALDESC:Eventos para Engranajes Culturales
REFRESH-INTERVAL;VALUE=DURATION:PT1H
X-Robots-Tag:noindex
X-PUBLISHED-TTL:PT1H
BEGIN:VTIMEZONE
TZID:Europe/Madrid
BEGIN:DAYLIGHT
TZOFFSETFROM:+0100
TZOFFSETTO:+0200
TZNAME:CEST
DTSTART:20240331T010000
END:DAYLIGHT
BEGIN:STANDARD
TZOFFSETFROM:+0200
TZOFFSETTO:+0100
TZNAME:CET
DTSTART:20241027T010000
END:STANDARD
BEGIN:DAYLIGHT
TZOFFSETFROM:+0100
TZOFFSETTO:+0200
TZNAME:CEST
DTSTART:20250330T010000
END:DAYLIGHT
BEGIN:STANDARD
TZOFFSETFROM:+0200
TZOFFSETTO:+0100
TZNAME:CET
DTSTART:20251026T010000
END:STANDARD
BEGIN:DAYLIGHT
TZOFFSETFROM:+0100
TZOFFSETTO:+0200
TZNAME:CEST
DTSTART:20260329T010000
END:DAYLIGHT
BEGIN:STANDARD
TZOFFSETFROM:+0200
TZOFFSETTO:+0100
TZNAME:CET
DTSTART:20261025T010000
END:STANDARD
END:VTIMEZONE
BEGIN:VEVENT
DTSTART;TZID=Europe/Madrid:20250426T120000
DTEND;TZID=Europe/Madrid:20250426T130000
DTSTAMP:20260422T112512
CREATED:20240911T082123Z
LAST-MODIFIED:20250421T100126Z
UID:6368-1745668800-1745672400@engranajesculturales.com
SUMMARY:Programa Cajasol en Familia: Especial Feria de Abril
DESCRIPTION:Actividades y visitas para celebrar el Día Mundial del pan en Alcalá de Guadaíra.  								\n				\n				\n				\n									\n					\n						\n									Reserva tus entradas gratuitas
URL:https://engranajesculturales.com/event/programa-cajasol-en-familia/
LOCATION:Fundación Cajasol\, c/ Entrecárceles\, Sevilla\, Sevilla\, 41004\, España
ATTACH;FMTTYPE=image/jpeg:https://engranajesculturales.com/wp-content/uploads/2025/04/PREFERIA-CAJASOL-2025-scaled.jpg
ORGANIZER;CN="Engranajes Culturales":MAILTO:info@engranajesculturales.com
END:VEVENT
BEGIN:VEVENT
DTSTART;TZID=Europe/Madrid:20250207T210000
DTEND;TZID=Europe/Madrid:20250207T230000
DTSTAMP:20260422T112512
CREATED:20250120T113857Z
LAST-MODIFIED:20250618T110847Z
UID:7865-1738962000-1738969200@engranajesculturales.com
SUMMARY:Visitas en fin de semana al museo y Puerto de Sevilla: El mar en el corazón de Andalucía
DESCRIPTION:Actividades y visitas para celebrar el Día Mundial del pan en Alcalá de Guadaíra.  								\n				\n				\n				\n									\n					\n						\n									Reserva tus entradas gratuitas
URL:https://engranajesculturales.com/event/visitas-en-fin-de-semana-al-museo-y-puerto-de-sevilla-el-mar-en-el-corazon-de-andalucia-2/
LOCATION:Museo del Puerto de Sevilla\, Avenida de las Razas 28\, Sevilla\, Sevilla\, 41004\, Spain
ATTACH;FMTTYPE=image/jpeg:https://engranajesculturales.com/wp-content/uploads/2025/01/3Multimodal-scaled.jpg
END:VEVENT
BEGIN:VEVENT
DTSTART;TZID=Europe/Madrid:20250209T120000
DTEND;TZID=Europe/Madrid:20250209T140000
DTSTAMP:20260422T112512
CREATED:20250618T105350Z
LAST-MODIFIED:20250618T105350Z
UID:8634-1739102400-1739109600@engranajesculturales.com
SUMMARY:Visitas en fin de semana al museo y Puerto de Sevilla: El mar en el corazón de Andalucía
DESCRIPTION:Actividades y visitas para celebrar el Día Mundial del pan en Alcalá de Guadaíra.  								\n				\n				\n				\n									\n					\n						\n									Reserva tus entradas gratuitas
URL:https://engranajesculturales.com/event/visitas-en-fin-de-semana-al-museo-y-puerto-de-sevilla-el-mar-en-el-corazon-de-andalucia/
LOCATION:Museo del Puerto de Sevilla\, Avenida de las Razas 28\, Sevilla\, Sevilla\, 41004\, Spain
ATTACH;FMTTYPE=image/jpeg:https://engranajesculturales.com/wp-content/uploads/2025/01/3Multimodal-scaled.jpg
END:VEVENT
BEGIN:VEVENT
DTSTART;TZID=Europe/Madrid:20250209T120000
DTEND;TZID=Europe/Madrid:20250209T133000
DTSTAMP:20260422T112512
CREATED:20250120T084518Z
LAST-MODIFIED:20250319T101353Z
UID:7486-1739102400-1739107800@engranajesculturales.com
SUMMARY:Actividades familiares en el Puerto de Sevilla: Familias a bordo
DESCRIPTION:Actividades y visitas para celebrar el Día Mundial del pan en Alcalá de Guadaíra.  								\n				\n				\n				\n									\n					\n						\n									Reserva tus entradas gratuitas
URL:https://engranajesculturales.com/event/actividadesfamiliarespuertosevilla/
LOCATION:Museo del Puerto de Sevilla\, Avenida de las Razas 28\, Sevilla\, Sevilla\, 41004\, Spain
ATTACH;FMTTYPE=image/jpeg:https://engranajesculturales.com/wp-content/uploads/2025/01/Familias-a-bordo.jpg
ORGANIZER;CN="Engranajes Culturales":MAILTO:info@engranajesculturales.com
END:VEVENT
BEGIN:VEVENT
DTSTART;TZID=Europe/Madrid:20250207T210000
DTEND;TZID=Europe/Madrid:20250207T230000
DTSTAMP:20260422T112512
CREATED:20250120T113857Z
LAST-MODIFIED:20250618T110847Z
UID:7865-1738962000-1738969200@engranajesculturales.com
SUMMARY:Visitas en fin de semana al museo y Puerto de Sevilla: El mar en el corazón de Andalucía
DESCRIPTION:Actividades y visitas para celebrar el Día Mundial del pan en Alcalá de Guadaíra.  								\n				\n				\n				\n									\n					\n						\n									Reserva tus entradas gratuitas
URL:https://engranajesculturales.com/event/visitas-en-fin-de-semana-al-museo-y-puerto-de-sevilla-el-mar-en-el-corazon-de-andalucia-2/
LOCATION:Museo del Puerto de Sevilla\, Avenida de las Razas 28\, Sevilla\, Sevilla\, 41004\, Spain
ATTACH;FMTTYPE=image/jpeg:https://engranajesculturales.com/wp-content/uploads/2025/01/3Multimodal-scaled.jpg
END:VEVENT
BEGIN:VEVENT
DTSTART;TZID=Europe/Madrid:20250209T120000
DTEND;TZID=Europe/Madrid:20250209T140000
DTSTAMP:20260422T112512
CREATED:20250618T105350Z
LAST-MODIFIED:20250618T105350Z
UID:8634-1739102400-1739109600@engranajesculturales.com
SUMMARY:Visitas en fin de semana al museo y Puerto de Sevilla: El mar en el corazón de Andalucía
DESCRIPTION:Actividades y visitas para celebrar el Día Mundial del pan en Alcalá de Guadaíra.  								\n				\n				\n				\n									\n					\n						\n									Reserva tus entradas gratuitas
URL:https://engranajesculturales.com/event/visitas-en-fin-de-semana-al-museo-y-puerto-de-sevilla-el-mar-en-el-corazon-de-andalucia/
LOCATION:Museo del Puerto de Sevilla\, Avenida de las Razas 28\, Sevilla\, Sevilla\, 41004\, Spain
ATTACH;FMTTYPE=image/jpeg:https://engranajesculturales.com/wp-content/uploads/2025/01/3Multimodal-scaled.jpg
END:VEVENT
BEGIN:VEVENT
DTSTART;TZID=Europe/Madrid:20250209T120000
DTEND;TZID=Europe/Madrid:20250209T133000
DTSTAMP:20260422T112512
CREATED:20250120T084518Z
LAST-MODIFIED:20250319T101353Z
UID:7486-1739102400-1739107800@engranajesculturales.com
SUMMARY:Actividades familiares en el Puerto de Sevilla: Familias a bordo
DESCRIPTION:Actividades y visitas para celebrar el Día Mundial del pan en Alcalá de Guadaíra.  								\n				\n				\n				\n									\n					\n						\n									Reserva tus entradas gratuitas
URL:https://engranajesculturales.com/event/actividadesfamiliarespuertosevilla/
LOCATION:Museo del Puerto de Sevilla\, Avenida de las Razas 28\, Sevilla\, Sevilla\, 41004\, Spain
ATTACH;FMTTYPE=image/jpeg:https://engranajesculturales.com/wp-content/uploads/2025/01/Familias-a-bordo.jpg
ORGANIZER;CN="Engranajes Culturales":MAILTO:info@engranajesculturales.com
END:VEVENT
BEGIN:VEVENT
DTSTART;TZID=Europe/Madrid:20250207T210000
DTEND;TZID=Europe/Madrid:20250207T230000
DTSTAMP:20260422T112512
CREATED:20250120T113857Z
LAST-MODIFIED:20250618T110847Z
UID:7865-1738962000-1738969200@engranajesculturales.com
SUMMARY:Visitas en fin de semana al museo y Puerto de Sevilla: El mar en el corazón de Andalucía
DESCRIPTION:Actividades y visitas para celebrar el Día Mundial del pan en Alcalá de Guadaíra.  								\n				\n				\n				\n									\n					\n						\n									Reserva tus entradas gratuitas
URL:https://engranajesculturales.com/event/visitas-en-fin-de-semana-al-museo-y-puerto-de-sevilla-el-mar-en-el-corazon-de-andalucia-2/
LOCATION:Museo del Puerto de Sevilla\, Avenida de las Razas 28\, Sevilla\, Sevilla\, 41004\, Spain
ATTACH;FMTTYPE=image/jpeg:https://engranajesculturales.com/wp-content/uploads/2025/01/3Multimodal-scaled.jpg
END:VEVENT
BEGIN:VEVENT
DTSTART;TZID=Europe/Madrid:20250301T210000
DTEND;TZID=Europe/Madrid:20250301T223000
DTSTAMP:20260422T112512
CREATED:20240131T090418Z
LAST-MODIFIED:20250109T111237Z
UID:3082-1740862800-1740868200@engranajesculturales.com
SUMMARY:Sevilla Ópera Nights: Don Giovanni en Casa de Salinas
DESCRIPTION:Actividades y visitas para celebrar el Día Mundial del pan en Alcalá de Guadaíra.  								\n				\n				\n				\n									\n					\n						\n									Reserva tus entradas gratuitas
URL:https://engranajesculturales.com/event/sevilla-opera-nights-don-giovanni-en-casa-de-salinas-copy/
LOCATION:Casa de Salinas\, C. Mateos Gago\, 39\, Casco Antiguo\, 41004 Sevilla\, Sevilla\, Sevilla\, 41004\, España
ATTACH;FMTTYPE=image/jpeg:https://engranajesculturales.com/wp-content/uploads/2024/01/opera-night-portada.jpeg
END:VEVENT
BEGIN:VEVENT
DTSTART;TZID=Europe/Madrid:20250316T190000
DTEND;TZID=Europe/Madrid:20250316T203000
DTSTAMP:20260422T112512
CREATED:20250306T092947Z
LAST-MODIFIED:20250408T091723Z
UID:8186-1742151600-1742157000@engranajesculturales.com
SUMMARY:Visita teatralizada a Casa Pilatos:  El Origen de la Semana Santa en Casa de Pilatos.
DESCRIPTION:Actividades y visitas para celebrar el Día Mundial del pan en Alcalá de Guadaíra.  								\n				\n				\n				\n									\n					\n						\n									Reserva tus entradas gratuitas
URL:https://engranajesculturales.com/event/visita-teatralizada-a-casa-pilatos-el-origen-de-la-semana-santa-en-casa-de-pilatos/
LOCATION:Casa Pilatos\, Plaza de Pilatos\, Sevilla\, Sevilla\, 41003\, España
ATTACH;FMTTYPE=image/jpeg:https://engranajesculturales.com/wp-content/uploads/2025/03/el-gran-viaje-a-Jerusalen-Casa-Pilatos-106-scaled.jpg
END:VEVENT
BEGIN:VEVENT
DTSTART;TZID=Europe/Madrid:20250209T120000
DTEND;TZID=Europe/Madrid:20250209T140000
DTSTAMP:20260422T112512
CREATED:20250618T105350Z
LAST-MODIFIED:20250618T105350Z
UID:8634-1739102400-1739109600@engranajesculturales.com
SUMMARY:Visitas en fin de semana al museo y Puerto de Sevilla: El mar en el corazón de Andalucía
DESCRIPTION:Actividades y visitas para celebrar el Día Mundial del pan en Alcalá de Guadaíra.  								\n				\n				\n				\n									\n					\n						\n									Reserva tus entradas gratuitas
URL:https://engranajesculturales.com/event/visitas-en-fin-de-semana-al-museo-y-puerto-de-sevilla-el-mar-en-el-corazon-de-andalucia/
LOCATION:Museo del Puerto de Sevilla\, Avenida de las Razas 28\, Sevilla\, Sevilla\, 41004\, Spain
ATTACH;FMTTYPE=image/jpeg:https://engranajesculturales.com/wp-content/uploads/2025/01/3Multimodal-scaled.jpg
END:VEVENT
BEGIN:VEVENT
DTSTART;TZID=Europe/Madrid:20250209T120000
DTEND;TZID=Europe/Madrid:20250209T133000
DTSTAMP:20260422T112512
CREATED:20250120T084518Z
LAST-MODIFIED:20250319T101353Z
UID:7486-1739102400-1739107800@engranajesculturales.com
SUMMARY:Actividades familiares en el Puerto de Sevilla: Familias a bordo
DESCRIPTION:Actividades y visitas para celebrar el Día Mundial del pan en Alcalá de Guadaíra.  								\n				\n				\n				\n									\n					\n						\n									Reserva tus entradas gratuitas
URL:https://engranajesculturales.com/event/actividadesfamiliarespuertosevilla/
LOCATION:Museo del Puerto de Sevilla\, Avenida de las Razas 28\, Sevilla\, Sevilla\, 41004\, Spain
ATTACH;FMTTYPE=image/jpeg:https://engranajesculturales.com/wp-content/uploads/2025/01/Familias-a-bordo.jpg
ORGANIZER;CN="Engranajes Culturales":MAILTO:info@engranajesculturales.com
END:VEVENT
BEGIN:VEVENT
DTSTART;TZID=Europe/Madrid:20250308T113000
DTEND;TZID=Europe/Madrid:20250308T130000
DTSTAMP:20260422T112512
CREATED:20240201T121217Z
LAST-MODIFIED:20250310T090603Z
UID:3292-1741433400-1741438800@engranajesculturales.com
SUMMARY:Tramos de Cuaresma Fundación Cajasol
DESCRIPTION:Actividades y visitas para celebrar el Día Mundial del pan en Alcalá de Guadaíra.  								\n				\n				\n				\n									\n					\n						\n									Reserva tus entradas gratuitas
URL:https://engranajesculturales.com/event/tramos-de-cuaresma-fundacion-cajasol/
LOCATION:Fundación Cajasol\, c/ Entrecárceles\, Sevilla\, Sevilla\, 41004\, España
ATTACH;FMTTYPE=image/jpeg:https://engranajesculturales.com/wp-content/uploads/2024/02/TRAMOS-SE25-videowall-escaparate-scaled.jpg
ORGANIZER;CN="Engranajes Culturales":MAILTO:info@engranajesculturales.com
END:VEVENT
BEGIN:VEVENT
DTSTART;TZID=Europe/Madrid:20250207T210000
DTEND;TZID=Europe/Madrid:20250207T230000
DTSTAMP:20260422T112512
CREATED:20250120T113857Z
LAST-MODIFIED:20250618T110847Z
UID:7865-1738962000-1738969200@engranajesculturales.com
SUMMARY:Visitas en fin de semana al museo y Puerto de Sevilla: El mar en el corazón de Andalucía
DESCRIPTION:Actividades y visitas para celebrar el Día Mundial del pan en Alcalá de Guadaíra.  								\n				\n				\n				\n									\n					\n						\n									Reserva tus entradas gratuitas
URL:https://engranajesculturales.com/event/visitas-en-fin-de-semana-al-museo-y-puerto-de-sevilla-el-mar-en-el-corazon-de-andalucia-2/
LOCATION:Museo del Puerto de Sevilla\, Avenida de las Razas 28\, Sevilla\, Sevilla\, 41004\, Spain
ATTACH;FMTTYPE=image/jpeg:https://engranajesculturales.com/wp-content/uploads/2025/01/3Multimodal-scaled.jpg
END:VEVENT
BEGIN:VEVENT
DTSTART;TZID=Europe/Madrid:20250404T210000
DTEND;TZID=Europe/Madrid:20250404T221500
DTSTAMP:20260422T112512
CREATED:20240220T101313Z
LAST-MODIFIED:20250310T090431Z
UID:3659-1743800400-1743804900@engranajesculturales.com
SUMMARY:Concierto Narrado las 7 palabras de Haydn en el Hospital de la Caridad
DESCRIPTION:Actividades y visitas para celebrar el Día Mundial del pan en Alcalá de Guadaíra.  								\n				\n				\n				\n									\n					\n						\n									Reserva tus entradas gratuitas
URL:https://engranajesculturales.com/event/concierto-narrado-las-7-palabras-de-haydn-en-el-hospital-de-la-caridad/
LOCATION:Hospital de la Caridad\, Calle temprado 3\, Sevilla\, Sevilla\, 41001\, España
ATTACH;FMTTYPE=image/png:https://engranajesculturales.com/wp-content/uploads/2025/03/SIETA-PALABRAS-SIN-LETRA.png
ORGANIZER;CN="Engranajes Culturales":MAILTO:info@engranajesculturales.com
END:VEVENT
BEGIN:VEVENT
DTSTART;TZID=Europe/Madrid:20250314T180000
DTEND;TZID=Europe/Madrid:20250314T183000
DTSTAMP:20260422T112512
CREATED:20250305T170137Z
LAST-MODIFIED:20250324T083248Z
UID:8169-1741975200-1741977000@engranajesculturales.com
SUMMARY:Sevilla Sacra. Ruta de la Semana Santa olvidada
DESCRIPTION:Actividades y visitas para celebrar el Día Mundial del pan en Alcalá de Guadaíra.  								\n				\n				\n				\n									\n					\n						\n									Reserva tus entradas gratuitas
URL:https://engranajesculturales.com/event/sevilla-sacra-ruta-de-la-semana-santa-olvidada/
LOCATION:Iglesia San Nicolás de Bari\, C. Muñoz y Pabón\, 21\, Casco Antiguo\,\, Sevilla\, Sevilla\, 41004\, Spain
ATTACH;FMTTYPE=image/png:https://engranajesculturales.com/wp-content/uploads/2025/03/slide-sevilla-sacra.png
END:VEVENT
BEGIN:VEVENT
DTSTART;TZID=Europe/Madrid:20250314T180000
DTEND;TZID=Europe/Madrid:20250314T183000
DTSTAMP:20260422T112512
CREATED:20250305T170137Z
LAST-MODIFIED:20250324T083248Z
UID:8169-1741975200-1741977000@engranajesculturales.com
SUMMARY:Sevilla Sacra. Ruta de la Semana Santa olvidada
DESCRIPTION:Actividades y visitas para celebrar el Día Mundial del pan en Alcalá de Guadaíra.  								\n				\n				\n				\n									\n					\n						\n									Reserva tus entradas gratuitas
URL:https://engranajesculturales.com/event/sevilla-sacra-ruta-de-la-semana-santa-olvidada/
LOCATION:Iglesia San Nicolás de Bari\, C. Muñoz y Pabón\, 21\, Casco Antiguo\,\, Sevilla\, Sevilla\, 41004\, Spain
ATTACH;FMTTYPE=image/png:https://engranajesculturales.com/wp-content/uploads/2025/03/slide-sevilla-sacra.png
END:VEVENT
BEGIN:VEVENT
DTSTART;TZID=Europe/Madrid:20250316T190000
DTEND;TZID=Europe/Madrid:20250316T203000
DTSTAMP:20260422T112512
CREATED:20250306T092947Z
LAST-MODIFIED:20250408T091723Z
UID:8186-1742151600-1742157000@engranajesculturales.com
SUMMARY:Visita teatralizada a Casa Pilatos:  El Origen de la Semana Santa en Casa de Pilatos.
DESCRIPTION:Actividades y visitas para celebrar el Día Mundial del pan en Alcalá de Guadaíra.  								\n				\n				\n				\n									\n					\n						\n									Reserva tus entradas gratuitas
URL:https://engranajesculturales.com/event/visita-teatralizada-a-casa-pilatos-el-origen-de-la-semana-santa-en-casa-de-pilatos/
LOCATION:Casa Pilatos\, Plaza de Pilatos\, Sevilla\, Sevilla\, 41003\, España
ATTACH;FMTTYPE=image/jpeg:https://engranajesculturales.com/wp-content/uploads/2025/03/el-gran-viaje-a-Jerusalen-Casa-Pilatos-106-scaled.jpg
END:VEVENT
BEGIN:VEVENT
DTSTART;TZID=Europe/Madrid:20250209T120000
DTEND;TZID=Europe/Madrid:20250209T140000
DTSTAMP:20260422T112512
CREATED:20250618T105350Z
LAST-MODIFIED:20250618T105350Z
UID:8634-1739102400-1739109600@engranajesculturales.com
SUMMARY:Visitas en fin de semana al museo y Puerto de Sevilla: El mar en el corazón de Andalucía
DESCRIPTION:Actividades y visitas para celebrar el Día Mundial del pan en Alcalá de Guadaíra.  								\n				\n				\n				\n									\n					\n						\n									Reserva tus entradas gratuitas
URL:https://engranajesculturales.com/event/visitas-en-fin-de-semana-al-museo-y-puerto-de-sevilla-el-mar-en-el-corazon-de-andalucia/
LOCATION:Museo del Puerto de Sevilla\, Avenida de las Razas 28\, Sevilla\, Sevilla\, 41004\, Spain
ATTACH;FMTTYPE=image/jpeg:https://engranajesculturales.com/wp-content/uploads/2025/01/3Multimodal-scaled.jpg
END:VEVENT
BEGIN:VEVENT
DTSTART;TZID=Europe/Madrid:20250209T120000
DTEND;TZID=Europe/Madrid:20250209T133000
DTSTAMP:20260422T112512
CREATED:20250120T084518Z
LAST-MODIFIED:20250319T101353Z
UID:7486-1739102400-1739107800@engranajesculturales.com
SUMMARY:Actividades familiares en el Puerto de Sevilla: Familias a bordo
DESCRIPTION:Actividades y visitas para celebrar el Día Mundial del pan en Alcalá de Guadaíra.  								\n				\n				\n				\n									\n					\n						\n									Reserva tus entradas gratuitas
URL:https://engranajesculturales.com/event/actividadesfamiliarespuertosevilla/
LOCATION:Museo del Puerto de Sevilla\, Avenida de las Razas 28\, Sevilla\, Sevilla\, 41004\, Spain
ATTACH;FMTTYPE=image/jpeg:https://engranajesculturales.com/wp-content/uploads/2025/01/Familias-a-bordo.jpg
ORGANIZER;CN="Engranajes Culturales":MAILTO:info@engranajesculturales.com
END:VEVENT
BEGIN:VEVENT
DTSTART;TZID=Europe/Madrid:20250329T200000
DTEND;TZID=Europe/Madrid:20250329T223000
DTSTAMP:20260422T112512
CREATED:20240526T082111Z
LAST-MODIFIED:20250109T111050Z
UID:3701-1743278400-1743287400@engranajesculturales.com
SUMMARY:Sevilla Ópera Nights: El Barbero de Sevilla en El Hospital de la Caridad
DESCRIPTION:Actividades y visitas para celebrar el Día Mundial del pan en Alcalá de Guadaíra.  								\n				\n				\n				\n									\n					\n						\n									Reserva tus entradas gratuitas
URL:https://engranajesculturales.com/event/sevilla-opera-nights-don-giovanni-en-casa-de-salinas-2024-04-26-copy/
LOCATION:Hospital de la Caridad\, Calle temprado 3\, Sevilla\, Sevilla\, 41001\, España
ATTACH;FMTTYPE=image/jpeg:https://engranajesculturales.com/wp-content/uploads/2024/01/opera-night-portada.jpeg
END:VEVENT
BEGIN:VEVENT
DTSTART;TZID=Europe/Madrid:20250207T210000
DTEND;TZID=Europe/Madrid:20250207T230000
DTSTAMP:20260422T112512
CREATED:20250120T113857Z
LAST-MODIFIED:20250618T110847Z
UID:7865-1738962000-1738969200@engranajesculturales.com
SUMMARY:Visitas en fin de semana al museo y Puerto de Sevilla: El mar en el corazón de Andalucía
DESCRIPTION:Actividades y visitas para celebrar el Día Mundial del pan en Alcalá de Guadaíra.  								\n				\n				\n				\n									\n					\n						\n									Reserva tus entradas gratuitas
URL:https://engranajesculturales.com/event/visitas-en-fin-de-semana-al-museo-y-puerto-de-sevilla-el-mar-en-el-corazon-de-andalucia-2/
LOCATION:Museo del Puerto de Sevilla\, Avenida de las Razas 28\, Sevilla\, Sevilla\, 41004\, Spain
ATTACH;FMTTYPE=image/jpeg:https://engranajesculturales.com/wp-content/uploads/2025/01/3Multimodal-scaled.jpg
END:VEVENT
BEGIN:VEVENT
DTSTART;TZID=Europe/Madrid:20250314T180000
DTEND;TZID=Europe/Madrid:20250314T183000
DTSTAMP:20260422T112512
CREATED:20250305T170137Z
LAST-MODIFIED:20250324T083248Z
UID:8169-1741975200-1741977000@engranajesculturales.com
SUMMARY:Sevilla Sacra. Ruta de la Semana Santa olvidada
DESCRIPTION:Actividades y visitas para celebrar el Día Mundial del pan en Alcalá de Guadaíra.  								\n				\n				\n				\n									\n					\n						\n									Reserva tus entradas gratuitas
URL:https://engranajesculturales.com/event/sevilla-sacra-ruta-de-la-semana-santa-olvidada/
LOCATION:Iglesia San Nicolás de Bari\, C. Muñoz y Pabón\, 21\, Casco Antiguo\,\, Sevilla\, Sevilla\, 41004\, Spain
ATTACH;FMTTYPE=image/png:https://engranajesculturales.com/wp-content/uploads/2025/03/slide-sevilla-sacra.png
END:VEVENT
BEGIN:VEVENT
DTSTART;TZID=Europe/Madrid:20250308T113000
DTEND;TZID=Europe/Madrid:20250308T130000
DTSTAMP:20260422T112512
CREATED:20240201T121217Z
LAST-MODIFIED:20250310T090603Z
UID:3292-1741433400-1741438800@engranajesculturales.com
SUMMARY:Tramos de Cuaresma Fundación Cajasol
DESCRIPTION:Actividades y visitas para celebrar el Día Mundial del pan en Alcalá de Guadaíra.  								\n				\n				\n				\n									\n					\n						\n									Reserva tus entradas gratuitas
URL:https://engranajesculturales.com/event/tramos-de-cuaresma-fundacion-cajasol/
LOCATION:Fundación Cajasol\, c/ Entrecárceles\, Sevilla\, Sevilla\, 41004\, España
ATTACH;FMTTYPE=image/jpeg:https://engranajesculturales.com/wp-content/uploads/2024/02/TRAMOS-SE25-videowall-escaparate-scaled.jpg
ORGANIZER;CN="Engranajes Culturales":MAILTO:info@engranajesculturales.com
END:VEVENT
BEGIN:VEVENT
DTSTART;TZID=Europe/Madrid:20250308T113000
DTEND;TZID=Europe/Madrid:20250308T130000
DTSTAMP:20260422T112512
CREATED:20240201T121217Z
LAST-MODIFIED:20250310T090603Z
UID:3292-1741433400-1741438800@engranajesculturales.com
SUMMARY:Tramos de Cuaresma Fundación Cajasol
DESCRIPTION:Actividades y visitas para celebrar el Día Mundial del pan en Alcalá de Guadaíra.  								\n				\n				\n				\n									\n					\n						\n									Reserva tus entradas gratuitas
URL:https://engranajesculturales.com/event/tramos-de-cuaresma-fundacion-cajasol/
LOCATION:Fundación Cajasol\, c/ Entrecárceles\, Sevilla\, Sevilla\, 41004\, España
ATTACH;FMTTYPE=image/jpeg:https://engranajesculturales.com/wp-content/uploads/2024/02/TRAMOS-SE25-videowall-escaparate-scaled.jpg
ORGANIZER;CN="Engranajes Culturales":MAILTO:info@engranajesculturales.com
END:VEVENT
BEGIN:VEVENT
DTSTART;TZID=Europe/Madrid:20250314T180000
DTEND;TZID=Europe/Madrid:20250314T183000
DTSTAMP:20260422T112512
CREATED:20250305T170137Z
LAST-MODIFIED:20250324T083248Z
UID:8169-1741975200-1741977000@engranajesculturales.com
SUMMARY:Sevilla Sacra. Ruta de la Semana Santa olvidada
DESCRIPTION:Actividades y visitas para celebrar el Día Mundial del pan en Alcalá de Guadaíra.  								\n				\n				\n				\n									\n					\n						\n									Reserva tus entradas gratuitas
URL:https://engranajesculturales.com/event/sevilla-sacra-ruta-de-la-semana-santa-olvidada/
LOCATION:Iglesia San Nicolás de Bari\, C. Muñoz y Pabón\, 21\, Casco Antiguo\,\, Sevilla\, Sevilla\, 41004\, Spain
ATTACH;FMTTYPE=image/png:https://engranajesculturales.com/wp-content/uploads/2025/03/slide-sevilla-sacra.png
END:VEVENT
BEGIN:VEVENT
DTSTART;TZID=Europe/Madrid:20250316T190000
DTEND;TZID=Europe/Madrid:20250316T203000
DTSTAMP:20260422T112512
CREATED:20250306T092947Z
LAST-MODIFIED:20250408T091723Z
UID:8186-1742151600-1742157000@engranajesculturales.com
SUMMARY:Visita teatralizada a Casa Pilatos:  El Origen de la Semana Santa en Casa de Pilatos.
DESCRIPTION:Actividades y visitas para celebrar el Día Mundial del pan en Alcalá de Guadaíra.  								\n				\n				\n				\n									\n					\n						\n									Reserva tus entradas gratuitas
URL:https://engranajesculturales.com/event/visita-teatralizada-a-casa-pilatos-el-origen-de-la-semana-santa-en-casa-de-pilatos/
LOCATION:Casa Pilatos\, Plaza de Pilatos\, Sevilla\, Sevilla\, 41003\, España
ATTACH;FMTTYPE=image/jpeg:https://engranajesculturales.com/wp-content/uploads/2025/03/el-gran-viaje-a-Jerusalen-Casa-Pilatos-106-scaled.jpg
END:VEVENT
BEGIN:VEVENT
DTSTART;TZID=Europe/Madrid:20250209T120000
DTEND;TZID=Europe/Madrid:20250209T133000
DTSTAMP:20260422T112512
CREATED:20250120T084518Z
LAST-MODIFIED:20250319T101353Z
UID:7486-1739102400-1739107800@engranajesculturales.com
SUMMARY:Actividades familiares en el Puerto de Sevilla: Familias a bordo
DESCRIPTION:Actividades y visitas para celebrar el Día Mundial del pan en Alcalá de Guadaíra.  								\n				\n				\n				\n									\n					\n						\n									Reserva tus entradas gratuitas
URL:https://engranajesculturales.com/event/actividadesfamiliarespuertosevilla/
LOCATION:Museo del Puerto de Sevilla\, Avenida de las Razas 28\, Sevilla\, Sevilla\, 41004\, Spain
ATTACH;FMTTYPE=image/jpeg:https://engranajesculturales.com/wp-content/uploads/2025/01/Familias-a-bordo.jpg
ORGANIZER;CN="Engranajes Culturales":MAILTO:info@engranajesculturales.com
END:VEVENT
BEGIN:VEVENT
DTSTART;TZID=Europe/Madrid:20250308T113000
DTEND;TZID=Europe/Madrid:20250308T130000
DTSTAMP:20260422T112512
CREATED:20240201T121217Z
LAST-MODIFIED:20250310T090603Z
UID:3292-1741433400-1741438800@engranajesculturales.com
SUMMARY:Tramos de Cuaresma Fundación Cajasol
DESCRIPTION:Actividades y visitas para celebrar el Día Mundial del pan en Alcalá de Guadaíra.  								\n				\n				\n				\n									\n					\n						\n									Reserva tus entradas gratuitas
URL:https://engranajesculturales.com/event/tramos-de-cuaresma-fundacion-cajasol/
LOCATION:Fundación Cajasol\, c/ Entrecárceles\, Sevilla\, Sevilla\, 41004\, España
ATTACH;FMTTYPE=image/jpeg:https://engranajesculturales.com/wp-content/uploads/2024/02/TRAMOS-SE25-videowall-escaparate-scaled.jpg
ORGANIZER;CN="Engranajes Culturales":MAILTO:info@engranajesculturales.com
END:VEVENT
BEGIN:VEVENT
DTSTART;TZID=Europe/Madrid:20250314T180000
DTEND;TZID=Europe/Madrid:20250314T183000
DTSTAMP:20260422T112512
CREATED:20250305T170137Z
LAST-MODIFIED:20250324T083248Z
UID:8169-1741975200-1741977000@engranajesculturales.com
SUMMARY:Sevilla Sacra. Ruta de la Semana Santa olvidada
DESCRIPTION:Actividades y visitas para celebrar el Día Mundial del pan en Alcalá de Guadaíra.  								\n				\n				\n				\n									\n					\n						\n									Reserva tus entradas gratuitas
URL:https://engranajesculturales.com/event/sevilla-sacra-ruta-de-la-semana-santa-olvidada/
LOCATION:Iglesia San Nicolás de Bari\, C. Muñoz y Pabón\, 21\, Casco Antiguo\,\, Sevilla\, Sevilla\, 41004\, Spain
ATTACH;FMTTYPE=image/png:https://engranajesculturales.com/wp-content/uploads/2025/03/slide-sevilla-sacra.png
END:VEVENT
END:VCALENDAR